BEGIN:VCALENDAR
VERSION:2.0
METHOD:PUBLISH
BEGIN:VEVENT
UID:WILD_APRICOT_EVENT_2781700_SESSION_1
DTSTART:20180523T223000Z
DTEND:20180525T053000Z
SUMMARY:2018 APA Professional Development Seminar
LOCATION:Adelaide Hills Convention Centre\, 145A Mount Barker Road Hahndorf
DESCRIPTION:https://www.lgapa.com.au/event-2781700\n\nThe Local Government Authorised Persons' Association (APA) in partnership with the Dog and Cat Management Board\, KelledyJones Lawyers and Norman Waterhouse Lawyers are proud to present the 2018 APA Professional Development Seminar at the Adelaide Hills Convention Centre on Thursday 24th & Friday 25th May 2018.\n   \n  Awards \n\n  Each year we hold the annual Authorised Persons' Association Annual Awards. These awards are always a highlight of the seminar as they are an opportunity for management and teammates to recognise and reward the excellent work happening in the regulatory world. The awards are presented at the seminar dinner at the Adelaide Hill Convention Centre on the evening of the 24 May 2018. \n   \n  The awards to be presented are:\n South Australian Animal Management Officer of the Year\n New Regulatory Services Officer's Award\n Excellence in Regulatory Services\n   \n  The award criteria and nomination form can be found here. Nominations close at 5pm on Friday 11 May 2018. Take time form your day to reflect on the projects\, investigations\, and initiatives your team have achieved this year. Do you have a new or experienced team member who continually excels? Please make sure you nominate an officer or team from your Council for an award. In addition to the recognition the winners will receive across the industry there are some great prizes on offer!!\n  Importantly\, many of our previous State winners of the Animal Management Officer of the Year award have gone on to win the National award\, which is great promotion for Local Government in South Australia.\n   \n  Draft program can be found here and is subject to change: \n\n  http://www.lgapa.com.au/2018-Professional-Development-Seminar\n   \n  NEW!\n  This year we have added a complimentary full cooked breakfast on Friday morning for attendees of 2 day Seminar Package\, for all other attendees breakfast is available for $25 per person. Please register for the breakfast separately for catering purposes. \n   \n  Accommodation\n  Accommodation is available on site at the award winning Hahndorf Resort with a wide range of accommodation options available starting at $169 per night.\n\n  Bookings can be made online at https://hahndorfresort.com.au/ or 8388 7921.\n  If you have any questions please contact Brenton Thomass at admin@lgapa.com.au or 8405 6989.\n\n
DTSTAMP:20260424T140824Z
END:VEVENT
END:VCALENDAR
